BEGIN:VCALENDAR
VERSION:2.0
PRODID:-//The Discovery Cardiff - ECPv6.15.20//NONSGML v1.0//EN
CALSCALE:GREGORIAN
METHOD:PUBLISH
X-WR-CALNAME:The Discovery Cardiff
X-ORIGINAL-URL:https://thediscoverycardiff.co.uk
X-WR-CALDESC:Events for The Discovery Cardiff
REFRESH-INTERVAL;VALUE=DURATION:PT1H
X-Robots-Tag:noindex
X-PUBLISHED-TTL:PT1H
BEGIN:VTIMEZONE
TZID:UTC
BEGIN:STANDARD
TZOFFSETFROM:+0000
TZOFFSETTO:+0000
TZNAME:UTC
DTSTART:20230101T000000
END:STANDARD
END:VTIMEZONE
BEGIN:VEVENT
DTSTART;VALUE=DATE:20240216
DTEND;VALUE=DATE:20240217
DTSTAMP:20260421T130924
CREATED:20240119T153432Z
LAST-MODIFIED:20240119T153432Z
UID:278-1708041600-1708127999@thediscoverycardiff.co.uk
SUMMARY:John Godwin - 7pm
DESCRIPTION:
URL:https://thediscoverycardiff.co.uk/music/john-godwin-7pm/
ATTACH;FMTTYPE=image/jpeg:https://thediscoverycardiff.co.uk/wp-content/uploads/2024/01/John-Godwin--e1705678454510.jpg
END:VEVENT
END:VCALENDAR