BEGIN:VCALENDAR
VERSION:2.0
PRODID:-//The Discovery Cardiff - ECPv6.15.20//NONSGML v1.0//EN
CALSCALE:GREGORIAN
METHOD:PUBLISH
X-WR-CALNAME:The Discovery Cardiff
X-ORIGINAL-URL:https://thediscoverycardiff.co.uk
X-WR-CALDESC:Events for The Discovery Cardiff
REFRESH-INTERVAL;VALUE=DURATION:PT1H
X-Robots-Tag:noindex
X-PUBLISHED-TTL:PT1H
BEGIN:VTIMEZONE
TZID:UTC
BEGIN:STANDARD
TZOFFSETFROM:+0000
TZOFFSETTO:+0000
TZNAME:UTC
DTSTART:20230101T000000
END:STANDARD
END:VTIMEZONE
BEGIN:VEVENT
DTSTART;VALUE=DATE:20240301
DTEND;VALUE=DATE:20240302
DTSTAMP:20260421T101532
CREATED:20240217T153438Z
LAST-MODIFIED:20240217T153911Z
UID:326-1709251200-1709337599@thediscoverycardiff.co.uk
SUMMARY:Jammy - 7pm
DESCRIPTION:
URL:https://thediscoverycardiff.co.uk/music/jammy-7pm/
ATTACH;FMTTYPE=image/png:https://thediscoverycardiff.co.uk/wp-content/uploads/2024/01/IMG_3454.png
END:VEVENT
BEGIN:VEVENT
DTSTART;VALUE=DATE:20240302
DTEND;VALUE=DATE:20240303
DTSTAMP:20260421T101532
CREATED:20240217T154016Z
LAST-MODIFIED:20240217T154016Z
UID:331-1709337600-1709423999@thediscoverycardiff.co.uk
SUMMARY:Colum - 7pm
DESCRIPTION:
URL:https://thediscoverycardiff.co.uk/music/colum-7pm/
ATTACH;FMTTYPE=image/jpeg:https://thediscoverycardiff.co.uk/wp-content/uploads/2024/02/IMG_4486.jpg
END:VEVENT
BEGIN:VEVENT
DTSTART;VALUE=DATE:20240308
DTEND;VALUE=DATE:20240309
DTSTAMP:20260421T101532
CREATED:20240217T154151Z
LAST-MODIFIED:20240217T154159Z
UID:335-1709856000-1709942399@thediscoverycardiff.co.uk
SUMMARY:Izzy Stead - 7pm
DESCRIPTION:
URL:https://thediscoverycardiff.co.uk/music/izzy-stead-7pm-2/
ATTACH;FMTTYPE=image/jpeg:https://thediscoverycardiff.co.uk/wp-content/uploads/2024/01/Izzy-Stead--e1705504244536.jpeg
END:VEVENT
BEGIN:VEVENT
DTSTART;VALUE=DATE:20240309
DTEND;VALUE=DATE:20240310
DTSTAMP:20260421T101532
CREATED:20240217T154442Z
LAST-MODIFIED:20240217T154442Z
UID:338-1709942400-1710028799@thediscoverycardiff.co.uk
SUMMARY:Gareth Taylor - 7pm
DESCRIPTION:
URL:https://thediscoverycardiff.co.uk/music/gareth-taylor-7pm/
ATTACH;FMTTYPE=image/jpeg:https://thediscoverycardiff.co.uk/wp-content/uploads/2024/02/gareth-taylor.jpg
END:VEVENT
BEGIN:VEVENT
DTSTART;VALUE=DATE:20240310
DTEND;VALUE=DATE:20240311
DTSTAMP:20260421T101532
CREATED:20240217T154657Z
LAST-MODIFIED:20240217T154657Z
UID:344-1710028800-1710115199@thediscoverycardiff.co.uk
SUMMARY:Jim Swidenbank
DESCRIPTION:
URL:https://thediscoverycardiff.co.uk/music/jim-swidenbank/
ATTACH;FMTTYPE=image/jpeg:https://thediscoverycardiff.co.uk/wp-content/uploads/2024/01/Jim-swidenbank.jpg
END:VEVENT
BEGIN:VEVENT
DTSTART;VALUE=DATE:20240315
DTEND;VALUE=DATE:20240316
DTSTAMP:20260421T101532
CREATED:20240217T154759Z
LAST-MODIFIED:20240312T164402Z
UID:347-1710460800-1710547199@thediscoverycardiff.co.uk
SUMMARY:Tom Lewis - 7pm
DESCRIPTION:
URL:https://thediscoverycardiff.co.uk/music/tom-lewis-7pm/
ATTACH;FMTTYPE=image/jpeg:https://thediscoverycardiff.co.uk/wp-content/uploads/2024/02/Tom-lewis-2.jpg
END:VEVENT
BEGIN:VEVENT
DTSTART;VALUE=DATE:20240316
DTEND;VALUE=DATE:20240317
DTSTAMP:20260421T101532
CREATED:20240217T154839Z
LAST-MODIFIED:20240312T164248Z
UID:350-1710547200-1710633599@thediscoverycardiff.co.uk
SUMMARY:John Godwin - 7pm
DESCRIPTION:
URL:https://thediscoverycardiff.co.uk/music/john-godwin-7pm-2/
ATTACH;FMTTYPE=image/jpeg:https://thediscoverycardiff.co.uk/wp-content/uploads/2024/02/John-Godwin-e1705678454510.jpg
END:VEVENT
BEGIN:VEVENT
DTSTART;VALUE=DATE:20240322
DTEND;VALUE=DATE:20240323
DTSTAMP:20260421T101532
CREATED:20240217T155050Z
LAST-MODIFIED:20240312T164108Z
UID:354-1711065600-1711151999@thediscoverycardiff.co.uk
SUMMARY:Tony Morely - 7pm
DESCRIPTION:
URL:https://thediscoverycardiff.co.uk/music/tony-morely-7pm/
ATTACH;FMTTYPE=image/jpeg:https://thediscoverycardiff.co.uk/wp-content/uploads/2024/02/Tony-Morely-e1708185041780.jpeg
END:VEVENT
BEGIN:VEVENT
DTSTART;VALUE=DATE:20240323
DTEND;VALUE=DATE:20240324
DTSTAMP:20260421T101532
CREATED:20240217T155156Z
LAST-MODIFIED:20240312T163918Z
UID:359-1711152000-1711238399@thediscoverycardiff.co.uk
SUMMARY:Kyle Jones - 7pm
DESCRIPTION:
URL:https://thediscoverycardiff.co.uk/music/kyle-jones-7pm/
ATTACH;FMTTYPE=image/jpeg:https://thediscoverycardiff.co.uk/wp-content/uploads/2024/02/Kyle-Jones-e1705678306510.jpeg
END:VEVENT
BEGIN:VEVENT
DTSTART;VALUE=DATE:20240328
DTEND;VALUE=DATE:20240329
DTSTAMP:20260421T101532
CREATED:20240314T171152Z
LAST-MODIFIED:20240314T171152Z
UID:469-1711584000-1711670399@thediscoverycardiff.co.uk
SUMMARY:James Swidenbank - 7pm
DESCRIPTION:
URL:https://thediscoverycardiff.co.uk/music/james-swidenbank-7pm/
ATTACH;FMTTYPE=image/jpeg:https://thediscoverycardiff.co.uk/wp-content/uploads/2024/01/Jim-swidenbank.jpg
END:VEVENT
BEGIN:VEVENT
DTSTART;VALUE=DATE:20240329
DTEND;VALUE=DATE:20240330
DTSTAMP:20260421T101532
CREATED:20240217T155232Z
LAST-MODIFIED:20240312T163801Z
UID:362-1711670400-1711756799@thediscoverycardiff.co.uk
SUMMARY:Izzy Stead - 7pm
DESCRIPTION:
URL:https://thediscoverycardiff.co.uk/music/izzy-stead-7pm-3/
ATTACH;FMTTYPE=image/jpeg:https://thediscoverycardiff.co.uk/wp-content/uploads/2024/02/Izzy-Stead-e1705504244536.jpeg
END:VEVENT
BEGIN:VEVENT
DTSTART;VALUE=DATE:20240330
DTEND;VALUE=DATE:20240331
DTSTAMP:20260421T101532
CREATED:20240217T155305Z
LAST-MODIFIED:20240312T163542Z
UID:365-1711756800-1711843199@thediscoverycardiff.co.uk
SUMMARY:Tim Bannister - 7pm
DESCRIPTION:
URL:https://thediscoverycardiff.co.uk/music/tim-bannister-7pm/
ATTACH;FMTTYPE=image/jpeg:https://thediscoverycardiff.co.uk/wp-content/uploads/2024/02/Tim-banister-e1705678218611.jpg
END:VEVENT
BEGIN:VEVENT
DTSTART;VALUE=DATE:20240331
DTEND;VALUE=DATE:20240401
DTSTAMP:20260421T101532
CREATED:20240322T132054Z
LAST-MODIFIED:20240322T135833Z
UID:489-1711843200-1711929599@thediscoverycardiff.co.uk
SUMMARY:Sefto & Stead 7pm
DESCRIPTION:
URL:https://thediscoverycardiff.co.uk/music/sefto-stead/
ATTACH;FMTTYPE=image/jpeg:https://thediscoverycardiff.co.uk/wp-content/uploads/2024/03/IMG_4782.jpg
END:VEVENT
END:VCALENDAR